BEGIN:VCALENDAR
VERSION:2.0
PRODID:-//EC Thüringen - ECPv6.15.14//NONSGML v1.0//EN
CALSCALE:GREGORIAN
METHOD:PUBLISH
X-ORIGINAL-URL:https://ec-thueringen.de
X-WR-CALDESC:Veranstaltungen für EC Thüringen
REFRESH-INTERVAL;VALUE=DURATION:PT1H
X-Robots-Tag:noindex
X-PUBLISHED-TTL:PT1H
BEGIN:VTIMEZONE
TZID:Europe/Berlin
BEGIN:DAYLIGHT
TZOFFSETFROM:+0100
TZOFFSETTO:+0200
TZNAME:CEST
DTSTART:20240331T010000
END:DAYLIGHT
BEGIN:STANDARD
TZOFFSETFROM:+0200
TZOFFSETTO:+0100
TZNAME:CET
DTSTART:20241027T010000
END:STANDARD
BEGIN:DAYLIGHT
TZOFFSETFROM:+0100
TZOFFSETTO:+0200
TZNAME:CEST
DTSTART:20250330T010000
END:DAYLIGHT
BEGIN:STANDARD
TZOFFSETFROM:+0200
TZOFFSETTO:+0100
TZNAME:CET
DTSTART:20251026T010000
END:STANDARD
BEGIN:DAYLIGHT
TZOFFSETFROM:+0100
TZOFFSETTO:+0200
TZNAME:CEST
DTSTART:20260329T010000
END:DAYLIGHT
BEGIN:STANDARD
TZOFFSETFROM:+0200
TZOFFSETTO:+0100
TZNAME:CET
DTSTART:20261025T010000
END:STANDARD
END:VTIMEZONE
BEGIN:VEVENT
DTSTART;VALUE=DATE:20250529
DTEND;VALUE=DATE:20250530
DTSTAMP:20260423T213038
CREATED:20241014T171855Z
LAST-MODIFIED:20241014T171855Z
UID:9206-1748476800-1748563199@ec-thueringen.de
SUMMARY:Bibeltag für jedermann
DESCRIPTION:Traditionell\, aber doch jedes Jahr ein besonderer Höhepunkt. Diesmal mit Rups\, früher Frontmann bei den Randfichten. Jetzt als Christ mit neuen Liedern unterwegs. Wir feiern am Vormittag Himmelfahrtsgottesdienst\, wo Thomas Unger (Rups) verkündigt und musikalisch den Gottesdienst gestaltet. Nach dem Mittagessen wird er zusammen mit dem Musiker Peter Kreissl ein Konzert geben und aus seinen Leben mit Jesus Christus erzählen. \nLeistungen: Mittagessen\, Kaffee & Kuchen\nLeitung: Matthias Schubert\nInfos + Anmeldung: Matthias Schubert | Tel. 03683-488441\nAnmeldung: nur bei Gemeindegruppen hilfreich
URL:https://ec-thueringen.de/event/bibeltag-fuer-jedermann/
LOCATION:LKG Floh-Seligental\, Bahnhofstraße 46\, Floh-Seligenthal\, 98593\, Deutschland
END:VEVENT
END:VCALENDAR